BEGIN:VCALENDAR
VERSION:2.0
PRODID:-//ical.marudot.com//iCal Event Maker
CALSCALE:GREGORIAN
BEGIN:VTIMEZONE
TZID:America/Toronto
LAST-MODIFIED:20250410T142247Z
TZURL:https://www.tzurl.org/zoneinfo-outlook/America/Toronto
X-LIC-LOCATION:America/Toronto
BEGIN:DAYLIGHT
TZNAME:EDT
TZOFFSETFROM:-0500
TZOFFSETTO:-0400
DTSTART:19700308T020000
RRULE:FREQ=YEARLY;BYMONTH=3;BYDAY=2SU
END:DAYLIGHT
BEGIN:STANDARD
TZNAME:EST
TZOFFSETFROM:-0400
TZOFFSETTO:-0500
DTSTART:19701101T020000
RRULE:FREQ=YEARLY;BYMONTH=11;BYDAY=1SU
END:STANDARD
END:VTIMEZONE
BEGIN:VEVENT
DTSTAMP:20260407T190322Z
UID:1775588496641-46173@ical.marudot.com
DTSTART;TZID=America/Toronto:20260507T130000
DTEND;TZID=America/Toronto:20260507T180000
SUMMARY:Sporting Clays Tournament
URL:https://arcmonroefoundation.org/events/sporting-clays-tournament/
DESCRIPTION:Join us for a day in the great outdoors in support of The Arc of Monroe! Our Sporting Clays Tournament has become a beloved event\, drawing sport shooting enthusiasts from all over the Rochester area. In 2026\, participants will enjoy healthy competition and a fun afternoon of sport shooting clays. The tournament is shot in teams of 4 players and played over a course of 12 shooting stations laid around the course. The event will also have a raffle\, spirits auction and conclude with cocktails\, dinner & prizes for top teams.\n\nWe invite experienced shooters to sign up for this event and to bring their own gun – that way they’ll feel comfortable and safe with their personal firearm. The first consideration in shooting a round of sporting clays is always safety!\n\nAll proceeds from this event benefit The Arc Foundation of Monroe\, advancing the mission of The Arc of Monroe.
LOCATION:Rochester Brooks Gun Club\, 962 Honeoye Falls 6 Road\, Rush
BEGIN:VALARM
ACTION:DISPLAY
DESCRIPTION:Sporting Clays Tournament
TRIGGER:-P1D
END:VALARM
END:VEVENT
END:VCALENDAR