BEGIN:VCALENDAR
VERSION:2.0
PRODID:-//ical.marudot.com//iCal Event Maker
CALSCALE:GREGORIAN
BEGIN:VEVENT
DTSTAMP:20260408T140401Z
UID:1775657023603-88601@ical.marudot.com
DTSTART;VALUE=DATE:20260917
DTEND;VALUE=DATE:20260918
SUMMARY:Over the Edge Rappelling Event
URL:https://arcmonroefoundation.org/events/over-the-edge-rappelling-event/
DESCRIPTION:This is life changing. Feel your heart pounding\, the fluttering of nerves and the thrill of conquering your city in a life-changing moment. Are you ready to go Over the Edge?\n\nDon’t miss our inaugural Over the Edge Rappelling Fundraiser! We’re excited to team up with The Arc Ontario and Over the Edge\, the world’s premier urban rappelling company since 2004. Challenge yourself to do something extraordinary—rappel down one of Rochester’s tallest buildings! \n\nSecure your sponsorship now and be a part of this amazing event\, all to support the people and programs of The Arc of Monroe and The Arc Ontario!
LOCATION:Hyatt Regency\, 125 E Main Street\, Rochester
BEGIN:VALARM
ACTION:DISPLAY
DESCRIPTION:Over the Edge Rappelling Event
TRIGGER:-P1D
END:VALARM
END:VEVENT
END:VCALENDAR